BEGIN:VCALENDAR
VERSION:2.0
PRODID:icalendar-ruby
CALSCALE:GREGORIAN
BEGIN:VEVENT
DTSTAMP:20260425T115432Z
UID:4bcdd222-f682-4f72-8c42-6d5e84adb7ba
DTSTART;VALUE=DATE:20210602
DESCRIPTION:Property ID# 509774\, Time: 2:00PM
SUMMARY:Auction for 
END:VEVENT
END:VCALENDAR
