BEGIN:VCALENDAR
VERSION:2.0
PRODID:icalendar-ruby
CALSCALE:GREGORIAN
BEGIN:VEVENT
DTSTAMP:20260424T235237Z
UID:ffa942a4-fc5b-4f22-839e-4ecbb0f85ba7
DTSTART;VALUE=DATE:20210721
DESCRIPTION:Property ID# 513036\, Time: 12:00PM
SUMMARY:Auction for 
END:VEVENT
END:VCALENDAR
