BEGIN:VCALENDAR
VERSION:2.0
PRODID:icalendar-ruby
CALSCALE:GREGORIAN
BEGIN:VEVENT
DTSTAMP:20260425T115102Z
UID:af7a3539-2c36-467f-a0b6-09c5656585fb
DTSTART;VALUE=DATE:20210929
DESCRIPTION:Property ID# 516877\, Time: 2:00PM
SUMMARY:Auction for 
END:VEVENT
END:VCALENDAR
