BEGIN:VCALENDAR
VERSION:2.0
PRODID:icalendar-ruby
CALSCALE:GREGORIAN
BEGIN:VEVENT
DTSTAMP:20260425T115321Z
UID:3539ca51-1b15-4c1d-a5f2-e32931016686
DTSTART;VALUE=DATE:20211006
DESCRIPTION:Property ID# 517301\, Time: 12:30PM
SUMMARY:Auction for 
END:VEVENT
END:VCALENDAR
