BEGIN:VCALENDAR
VERSION:2.0
PRODID:icalendar-ruby
CALSCALE:GREGORIAN
BEGIN:VEVENT
DTSTAMP:20260424T235618Z
UID:5cb963bf-a7f7-4e75-a17a-646b992676b0
DTSTART;VALUE=DATE:20211027
DESCRIPTION:Property ID# 518993\, Locatoin: Tait Technology Centre\, 245 Wo
 olridge Road\, Time: 12:00PM
SUMMARY:Auction for 
END:VEVENT
END:VCALENDAR
