BEGIN:VCALENDAR
VERSION:2.0
PRODID:icalendar-ruby
CALSCALE:GREGORIAN
BEGIN:VEVENT
DTSTAMP:20260425T115158Z
UID:c4811141-25d2-417a-94fe-883bd99f132f
DTSTART;VALUE=DATE:20211103
DESCRIPTION:Property ID# 519464\, Time: 2:00PM
SUMMARY:Auction for 
END:VEVENT
END:VCALENDAR
