BEGIN:VCALENDAR
VERSION:2.0
PRODID:icalendar-ruby
CALSCALE:GREGORIAN
BEGIN:VEVENT
DTSTAMP:20260425T203438Z
UID:643f788e-27b3-4820-a614-7bfb6a0b9e32
DTSTART;VALUE=DATE:20211111
DESCRIPTION:Property ID# 519708\, Time: 4:00PM
SUMMARY:Auction for 
END:VEVENT
END:VCALENDAR
