BEGIN:VCALENDAR
VERSION:2.0
PRODID:icalendar-ruby
CALSCALE:GREGORIAN
BEGIN:VEVENT
DTSTAMP:20260424T235743Z
UID:704e5200-0925-4e3f-8830-2d0c46a67476
DTSTART;VALUE=DATE:20211124
DESCRIPTION:Property ID# 521464\, Locatoin: Tait Technology Centre\, 245 Wo
 oldridge Road\, Russley\, Christchurch\, Time: 12:00PM
SUMMARY:Auction for 
END:VEVENT
END:VCALENDAR
