BEGIN:VCALENDAR
VERSION:2.0
PRODID:icalendar-ruby
CALSCALE:GREGORIAN
BEGIN:VEVENT
DTSTAMP:20260425T131607Z
UID:91011896-67b9-4e89-b249-651b9b883717
DTSTART;VALUE=DATE:20211202
DESCRIPTION:Property ID# 522359\, Locatoin: Ray White Barrington\, Shop 4 2
 56 Barrington Street\, Christchurch 8024 (NOT selling prior)\, Time: 5:00P
 M
SUMMARY:Auction for 
END:VEVENT
END:VCALENDAR
