BEGIN:VCALENDAR
VERSION:2.0
PRODID:icalendar-ruby
CALSCALE:GREGORIAN
BEGIN:VEVENT
DTSTAMP:20260424T235420Z
UID:fccd8160-afc2-4d59-b8d6-15e90a8f2d9e
DTSTART;VALUE=DATE:20211208
DESCRIPTION:Property ID# 522913\, Locatoin: Tait Technology Centre 245 Wool
 dridge Road\, Time: 12:00PM
SUMMARY:Auction for 
END:VEVENT
END:VCALENDAR
