BEGIN:VCALENDAR
VERSION:2.0
PRODID:icalendar-ruby
CALSCALE:GREGORIAN
BEGIN:VEVENT
DTSTAMP:20260424T235440Z
UID:61c08145-4400-4ce7-a725-b44f615f2f1f
DTSTART;VALUE=DATE:20220302
DESCRIPTION:Property ID# 528497\, Locatoin: Tait Technology Centre\, Time: 
 12:00PM
SUMMARY:Auction for 
END:VEVENT
END:VCALENDAR
