BEGIN:VCALENDAR
VERSION:2.0
PRODID:icalendar-ruby
CALSCALE:GREGORIAN
BEGIN:VEVENT
DTSTAMP:20260425T132808Z
UID:05537a88-9501-4b77-851d-388dd806fea9
DTSTART;VALUE=DATE:20220413
DESCRIPTION:Property ID# 532050\, Locatoin:  Ray White Barrington\, Shop 4 
 256 Barrington St (Unless sold prior)\, Time: 5:00PM
SUMMARY:Auction for 
END:VEVENT
END:VCALENDAR
