BEGIN:VCALENDAR
VERSION:2.0
PRODID:icalendar-ruby
CALSCALE:GREGORIAN
BEGIN:VEVENT
DTSTAMP:20260425T114128Z
UID:275dc695-e067-4895-b5ee-fb3944ecb446
DTSTART;VALUE=DATE:20220427
DESCRIPTION:Property ID# 533847\, Time: 2:00PM
SUMMARY:Auction for 
END:VEVENT
END:VCALENDAR
