BEGIN:VCALENDAR
VERSION:2.0
PRODID:icalendar-ruby
CALSCALE:GREGORIAN
BEGIN:VEVENT
DTSTAMP:20260424T234817Z
UID:fddb2f83-3839-4909-84bf-d5105f0e1608
DTSTART;VALUE=DATE:20220928
DESCRIPTION:Property ID# 537865\, Time: 5:00PM
SUMMARY:Auction for 
END:VEVENT
END:VCALENDAR
