BEGIN:VCALENDAR
VERSION:2.0
PRODID:icalendar-ruby
CALSCALE:GREGORIAN
BEGIN:VEVENT
DTSTAMP:20260424T235318Z
UID:d768a398-7eba-4a5e-a10f-09d09345587a
DTSTART;VALUE=DATE:20221011
DESCRIPTION:Property ID# 544080\, Time: 5:30PM
SUMMARY:Auction for 
END:VEVENT
END:VCALENDAR
