BEGIN:VCALENDAR
VERSION:2.0
PRODID:icalendar-ruby
CALSCALE:GREGORIAN
BEGIN:VEVENT
DTSTAMP:20260424T235742Z
UID:2c32dd47-a329-49a9-997a-b485bc04c691
DTSTART;VALUE=DATE:20230620
DESCRIPTION:Property ID# 557810\, Time: 5:30PM
SUMMARY:Auction for 
END:VEVENT
END:VCALENDAR
