BEGIN:VCALENDAR
VERSION:2.0
PRODID:icalendar-ruby
CALSCALE:GREGORIAN
BEGIN:VEVENT
DTSTAMP:20260424T235420Z
UID:88e0cbaf-2b2b-4923-9f4a-53ee1d580598
DTSTART;VALUE=DATE:20230801
DESCRIPTION:Property ID# 559565\, Time: 5:30PM
SUMMARY:Auction for 
END:VEVENT
END:VCALENDAR
