BEGIN:VCALENDAR
VERSION:2.0
PRODID:icalendar-ruby
CALSCALE:GREGORIAN
BEGIN:VEVENT
DTSTAMP:20260424T235619Z
UID:490f7c15-3836-45d8-9dce-360931773780
DTSTART;VALUE=DATE:20231024
DESCRIPTION:Property ID# 563295\, Time: 5:30PM
SUMMARY:Auction for 
END:VEVENT
END:VCALENDAR
