BEGIN:VCALENDAR
VERSION:2.0
PRODID:icalendar-ruby
CALSCALE:GREGORIAN
BEGIN:VEVENT
DTSTAMP:20260419T173708Z
UID:4bd581a8-1851-4a84-8722-f946b8ddc2d1
DTSTART;VALUE=DATE:20250501
DESCRIPTION:Property ID# 590598\, Locatoin: 98 Moorhouse Avenue Christchurc
 h\, Time: 11:00AM
SUMMARY:Auction for 
END:VEVENT
END:VCALENDAR
