BEGIN:VCALENDAR
VERSION:2.0
PRODID:icalendar-ruby
CALSCALE:GREGORIAN
BEGIN:VEVENT
DTSTAMP:20260419T173847Z
UID:e10d9447-686a-4675-8d19-818c6caa2769
DTSTART;VALUE=DATE:20260226
DESCRIPTION:Property ID# 603257\, Time: 3:00PM
SUMMARY:Auction for 17 Blankney Street
END:VEVENT
END:VCALENDAR
