BEGIN:VCALENDAR
VERSION:2.0
PRODID:icalendar-ruby
CALSCALE:GREGORIAN
BEGIN:VEVENT
DTSTAMP:20260419T155430Z
UID:2595b4cd-48ba-4a30-afc7-b8ad4e6dcf8b
DTSTART;VALUE=DATE:20260304
DESCRIPTION:Property ID# 603310\, Locatoin: 397 Ilam Road\, Ilam\, Time: 10
 :00AM
SUMMARY:Auction for 
END:VEVENT
END:VCALENDAR
