BEGIN:VCALENDAR
VERSION:2.0
PRODID:icalendar-ruby
CALSCALE:GREGORIAN
BEGIN:VEVENT
DTSTAMP:20260419T174335Z
UID:8810e0a7-699c-4f1e-8078-2ff76324b1d8
DTSTART;VALUE=DATE:20260305
DESCRIPTION:Property ID# 603516\, Time: 3:00PM
SUMMARY:Auction for 
END:VEVENT
END:VCALENDAR
