BEGIN:VCALENDAR
VERSION:2.0
PRODID:icalendar-ruby
CALSCALE:GREGORIAN
BEGIN:VEVENT
DTSTAMP:20260419T141005Z
UID:c2b147fe-fdec-4dab-817b-238627339531
DTSTART;TZID=Pacific/Auckland:20260419T133000
DTEND;TZID=Pacific/Auckland:20260419T140000
DESCRIPTION:Property ID# 605922
SUMMARY:Openhome for 8 Johnson Street
END:VEVENT
END:VCALENDAR
